BEGIN:VCALENDAR
VERSION:2.0
PRODID:-//Weststadt Schorndorf - ECPv6.6.4.2//NONSGML v1.0//EN
CALSCALE:GREGORIAN
METHOD:PUBLISH
X-WR-CALNAME:Weststadt Schorndorf
X-ORIGINAL-URL:https://www.weststadt-schorndorf.de
X-WR-CALDESC:Veranstaltungen für Weststadt Schorndorf
REFRESH-INTERVAL;VALUE=DURATION:PT1H
X-Robots-Tag:noindex
X-PUBLISHED-TTL:PT1H
BEGIN:VTIMEZONE
TZID:Europe/Berlin
BEGIN:DAYLIGHT
TZOFFSETFROM:+0100
TZOFFSETTO:+0200
TZNAME:CEST
DTSTART:20240331T010000
END:DAYLIGHT
BEGIN:STANDARD
TZOFFSETFROM:+0200
TZOFFSETTO:+0100
TZNAME:CET
DTSTART:20241027T010000
END:STANDARD
END:VTIMEZONE
BEGIN:VEVENT
DTSTART;TZID=Europe/Berlin:20241027T110000
DTEND;TZID=Europe/Berlin:20241027T170000
DTSTAMP:20260420T092413
CREATED:20240923T174846Z
LAST-MODIFIED:20240923T175805Z
UID:383-1730026800-1730048400@www.weststadt-schorndorf.de
SUMMARY:Stadtmarkt
DESCRIPTION:Der verkaufsoffene Sonntag im Herbst bietet jede Menge Programm\, Interessantes\, Spaßiges\, Besonderes und Leckeres. Über 100 Marktstände kommen in die Innenstadt und bieten Lebensmittel\, Handwerk und vieles mehr an. Ein besonderer Bücher- und Schallplattenflohmarkt ist jedes Jahr ein Highlight für viele Besuchende aus der ganzen Region. Der Insidertipp und Anlaufpunkt für viele Familien ist ein weiterer Flohmarkt\, der für und von Kindern organisiert wird. \nZusätzlich laden die Fachgeschäfte von 12 bis 17 Uhr zum verkaufsoffenen Sonntag ein.
URL:https://www.weststadt-schorndorf.de/termine/stadtmarkt/
ATTACH;FMTTYPE=image/png:https://www.weststadt-schorndorf.de/wp-content/uploads/2024/09/Bildschirm­foto-2024-09-23-um-19.57.32.png
END:VEVENT
END:VCALENDAR